BEGIN:VCALENDAR
VERSION:2.0
PRODID:-//Southern Rockies Fire Science Network - ECPv6.15.20//NONSGML v1.0//EN
CALSCALE:GREGORIAN
METHOD:PUBLISH
X-ORIGINAL-URL:https://www.southernrockiesfirescience.org
X-WR-CALDESC:Events for Southern Rockies Fire Science Network
REFRESH-INTERVAL;VALUE=DURATION:PT1H
X-Robots-Tag:noindex
X-PUBLISHED-TTL:PT1H
BEGIN:VTIMEZONE
TZID:America/Denver
BEGIN:DAYLIGHT
TZOFFSETFROM:-0700
TZOFFSETTO:-0600
TZNAME:MDT
DTSTART:20250309T090000
END:DAYLIGHT
BEGIN:STANDARD
TZOFFSETFROM:-0600
TZOFFSETTO:-0700
TZNAME:MST
DTSTART:20251102T080000
END:STANDARD
BEGIN:DAYLIGHT
TZOFFSETFROM:-0700
TZOFFSETTO:-0600
TZNAME:MDT
DTSTART:20260308T090000
END:DAYLIGHT
BEGIN:STANDARD
TZOFFSETFROM:-0600
TZOFFSETTO:-0700
TZNAME:MST
DTSTART:20261101T080000
END:STANDARD
BEGIN:DAYLIGHT
TZOFFSETFROM:-0700
TZOFFSETTO:-0600
TZNAME:MDT
DTSTART:20270314T090000
END:DAYLIGHT
BEGIN:STANDARD
TZOFFSETFROM:-0600
TZOFFSETTO:-0700
TZNAME:MST
DTSTART:20271107T080000
END:STANDARD
END:VTIMEZONE
BEGIN:VEVENT
DTSTART;VALUE=DATE:20260623
DTEND;VALUE=DATE:20260627
DTSTAMP:20260419T121825
CREATED:20260109T212302Z
LAST-MODIFIED:20260109T212302Z
UID:2340-1782172800-1782518399@www.southernrockiesfirescience.org
SUMMARY:North American Forest Ecology Workshop
DESCRIPTION:Missoula\, Montana June 23-26\, 2026.\nOur theme is Growing resilient forests and communities.\nThis conference will host plenary talks\, scientific presentations\, and field trips exploring the science and management of how to create and maintain resilient forest ecosystems and the human communities embedded in them. Focusing on innovative science\, partnerships\, and creative management\, the conference will host topics on ways to foster forest communities that are resilient to climate stress\, disturbance\, and societal change. All topics related to forest ecology and management are welcome. \nRegistration is now OPEN! Please see the registration page for more information. \n\n\n\n\n\n 
URL:https://www.southernrockiesfirescience.org/event/north-american-forest-ecology-workshop/
END:VEVENT
BEGIN:VEVENT
DTSTART;VALUE=DATE:20261011
DTEND;VALUE=DATE:20261015
DTSTAMP:20260419T121825
CREATED:20260216T224243Z
LAST-MODIFIED:20260216T224331Z
UID:2368-1791676800-1792022399@www.southernrockiesfirescience.org
SUMMARY:Connects 2026
DESCRIPTION:The Geological Society of America Presents:\n  \nConnects 2026\n\nCelebrating a Century of Continental Drift: Understanding Earth in Motion\nRiverscapes in Transition: Dynamics\, Hazards\, and Human Futures\nInnovations in Exploration from Deep Earth to Deep Space\n\nWhen:\nOctober 11-14\nWhere: Denver\, Colorado\n\nRegister HERE
URL:https://www.southernrockiesfirescience.org/event/2368/
LOCATION:Denver\, Colorado
ATTACH;FMTTYPE=image/png:https://www.southernrockiesfirescience.org/wp-content/uploads/2026/02/Screenshot-2026-02-16-at-3.32.27-PM-scaled.png
END:VEVENT
BEGIN:VEVENT
DTSTART;VALUE=DATE:20261019
DTEND;VALUE=DATE:20261024
DTSTAMP:20260419T121825
CREATED:20260316T153913Z
LAST-MODIFIED:20260316T153913Z
UID:2455-1792368000-1792799999@www.southernrockiesfirescience.org
SUMMARY:Wildland Fire Canada Conference + Canadian Smoke Forum
DESCRIPTION:The Wildland Fire Canada Conference (WFCC) and Canadian Smoke Forum brings together wildland fire management agencies\, Indigenous knowledge holders and experts\, scientists\, partners\, and collaborators from across Canada and around the world. This biennial conference focuses on wildland fire management\, science\, and knowledge-sharing in Canada. \n📅 October 19-23\n📍Saskatoon\, Saskatchewan \nRegister HERE
URL:https://www.southernrockiesfirescience.org/event/wildland-fire-canada-conference-canadian-smoke-forum/
ATTACH;FMTTYPE=image/png:https://www.southernrockiesfirescience.org/wp-content/uploads/2026/03/Screenshot-2026-03-16-at-9.38.09-AM-scaled.png
END:VEVENT
END:VCALENDAR